BEGIN:VCALENDAR
VERSION:2.0
PRODID:-//Neue Richter*innenvereinigung e.V. - ECPv6.15.20//NONSGML v1.0//EN
CALSCALE:GREGORIAN
METHOD:PUBLISH
X-WR-CALNAME:Neue Richter*innenvereinigung e.V.
X-ORIGINAL-URL:https://www.neuerichter.de
X-WR-CALDESC:Veranstaltungen für Neue Richter*innenvereinigung e.V.
REFRESH-INTERVAL;VALUE=DURATION:PT1H
X-Robots-Tag:noindex
X-PUBLISHED-TTL:PT1H
BEGIN:VTIMEZONE
TZID:Europe/Berlin
BEGIN:DAYLIGHT
TZOFFSETFROM:+0100
TZOFFSETTO:+0200
TZNAME:CEST
DTSTART:20250330T010000
END:DAYLIGHT
BEGIN:STANDARD
TZOFFSETFROM:+0200
TZOFFSETTO:+0100
TZNAME:CET
DTSTART:20251026T010000
END:STANDARD
BEGIN:DAYLIGHT
TZOFFSETFROM:+0100
TZOFFSETTO:+0200
TZNAME:CEST
DTSTART:20260329T010000
END:DAYLIGHT
BEGIN:STANDARD
TZOFFSETFROM:+0200
TZOFFSETTO:+0100
TZNAME:CET
DTSTART:20261025T010000
END:STANDARD
BEGIN:DAYLIGHT
TZOFFSETFROM:+0100
TZOFFSETTO:+0200
TZNAME:CEST
DTSTART:20270328T010000
END:DAYLIGHT
BEGIN:STANDARD
TZOFFSETFROM:+0200
TZOFFSETTO:+0100
TZNAME:CET
DTSTART:20271031T010000
END:STANDARD
END:VTIMEZONE
BEGIN:VEVENT
DTSTART;TZID=Europe/Berlin:20260527T190000
DTEND;TZID=Europe/Berlin:20260527T230000
DTSTAMP:20260421T154622
CREATED:20260421T072848Z
LAST-MODIFIED:20260421T072848Z
UID:10000062-1779908400-1779922800@www.neuerichter.de
SUMMARY:Podiumsdiskussion zum Thema "Contempt of Court" am 27.05.2026
DESCRIPTION:Gemeinsame Veranstaltung von RAV und NRV!\n \n  \n„Contempt of Court: Zwischen Recht\, Gesetz und politischer Verantwortung“ \nDiese Podiumsdiskussion widmet sich einem hochaktuellen und zugleich brisanten Thema: dem Contempt of Court. Die Beispiele des Berliner Partizipationsgesetzes\, der Luftreinhaltung\, des Klimaschutzes und der Grenzkontrollen sind nur die bekanntesten eines sich in vielen Facetten zeigenden Problems. In jedem Fall handelt es sich um eine echte Herausforderung für die Demokratie und die Rechtsprechung dar. \nWir beleuchten die vielfältigen Erscheinungsformen des Phänomens\, das sich vom individuellen Widerstand bis hin zu organisierten politischen Akten der Rebellion erstrecken kann. Welche moralischen\, rechtlichen und politischen Implikationen entstehen\, wenn Exekutivbehörden Gesetze ignorieren oder Gerichtsurteile nicht umsetzen? Und in welchem Spannungsfeld bewegt sich die staatliche Gewalt zwischen der Bindung an Recht und Gesetz und den praktischen Erfordernissen der politischen Entscheidungsfindung? \nDiskutieren Sie mit unseren Experten aus Recht\, Politik und Gesellschaft über folgende Fragen: \n\nWie beeinflusst der Contempt of Court die Unabhängigkeit und Wirksamkeit von Gerichtsverfahren und Urteilen?\nEinbezug in exekutive Entscheidungsprozesse: Inwieweit wird exekutiver Ungehorsam als legitime politische Handlung betrachtet?\nVollzug und Vollstreckung: Welche praktischen und rechtlichen Herausforderungen entstehen\, wenn Gesetze nicht durchgesetzt oder umgangen werden?\n\n  \nDie Teilnehmer unserer Podiumsdiskussion sind: \nClara Bünger\, Abgeordnete im Deutschen Bundestag für die Gruppe „Die Linke“ \nChristoph Tometten\, Rechtsanwalt aus Berlin mit Schwerpunkt im Migrationsrecht \nDr. Thomas Weigelt\, Richter am Verwaltungsgericht Berlin \nWiebke Judith\, Rechtspolitische Referentin Pro Asyl \n  \nDatum & Uhrzeit: 27. Mai 2026\, 19:00 Uhr \nOrt: Robert-Havemann-Saal im Haus der Demokratie und Menschenrechte\, Greifswalder Straß 4\, 10405 Berlin \nEine Anmeldung ist nicht notwendig. Im Anschluss findet noch ein gemeinsames Get-Together statt!
URL:https://www.neuerichter.de/termin/podiumsdiskussion-zum-thema-contempt-of-court-am-27-05-2026/
LOCATION:Haus der Demokrate und Menschenrechte\, Robert-Havemann-Saal\, Greifswalder Str. 4\, Berlin\, 10405\, Germany
END:VEVENT
END:VCALENDAR