BEGIN:VCALENDAR
VERSION:2.0
PRODID:-//Neue Richter*innenvereinigung e.V. - ECPv6.15.20//NONSGML v1.0//EN
CALSCALE:GREGORIAN
METHOD:PUBLISH
X-WR-CALNAME:Neue Richter*innenvereinigung e.V.
X-ORIGINAL-URL:https://www.neuerichter.de
X-WR-CALDESC:Veranstaltungen für Neue Richter*innenvereinigung e.V.
REFRESH-INTERVAL;VALUE=DURATION:PT1H
X-Robots-Tag:noindex
X-PUBLISHED-TTL:PT1H
BEGIN:VTIMEZONE
TZID:Europe/Berlin
BEGIN:DAYLIGHT
TZOFFSETFROM:+0100
TZOFFSETTO:+0200
TZNAME:CEST
DTSTART:20230326T010000
END:DAYLIGHT
BEGIN:STANDARD
TZOFFSETFROM:+0200
TZOFFSETTO:+0100
TZNAME:CET
DTSTART:20231029T010000
END:STANDARD
BEGIN:DAYLIGHT
TZOFFSETFROM:+0100
TZOFFSETTO:+0200
TZNAME:CEST
DTSTART:20240331T010000
END:DAYLIGHT
BEGIN:STANDARD
TZOFFSETFROM:+0200
TZOFFSETTO:+0100
TZNAME:CET
DTSTART:20241027T010000
END:STANDARD
BEGIN:DAYLIGHT
TZOFFSETFROM:+0100
TZOFFSETTO:+0200
TZNAME:CEST
DTSTART:20250330T010000
END:DAYLIGHT
BEGIN:STANDARD
TZOFFSETFROM:+0200
TZOFFSETTO:+0100
TZNAME:CET
DTSTART:20251026T010000
END:STANDARD
BEGIN:DAYLIGHT
TZOFFSETFROM:+0100
TZOFFSETTO:+0200
TZNAME:CEST
DTSTART:20260329T010000
END:DAYLIGHT
BEGIN:STANDARD
TZOFFSETFROM:+0200
TZOFFSETTO:+0100
TZNAME:CET
DTSTART:20261025T010000
END:STANDARD
END:VTIMEZONE
BEGIN:VEVENT
DTSTART;TZID=Europe/Berlin:20250328T130000
DTEND;TZID=Europe/Berlin:20250329T120000
DTSTAMP:20260424T223015
CREATED:20241128T075306Z
LAST-MODIFIED:20241128T075306Z
UID:10000030-1743166800-1743249600@www.neuerichter.de
SUMMARY:Fachgruppentreffen Arbeitsrecht am 28. und 29. März 2025 in Erfurt
DESCRIPTION:Tagungsort ist das Augustinerkloster in Erfurt. \nEingeladen sind explizit auch an unserer Arbeit Interessierte\, die (noch) kein NRV-Mitglied sind. \nEs wird um aktuelle Fragestellungen des Arbeitsrechts gehen. Ein Thema wird das mobile Arbeiten sein. \nWeitere Themen werden hier später angekündigt.
URL:https://www.neuerichter.de/termin/fachgruppentreffen-arbeitsrecht-am-28-und-29-maerz-2025-in-erfurt/
LOCATION:Augustinerkloster in Erfurt\, Augustinerstraße 10\, Erfurt\, 99084\, Germany
END:VEVENT
BEGIN:VEVENT
DTSTART;TZID=Europe/Berlin:20240427T130000
DTEND;TZID=Europe/Berlin:20240428T120000
DTSTAMP:20260424T223015
CREATED:20240322T111608Z
LAST-MODIFIED:20240322T111913Z
UID:10000002-1714222800-1714305600@www.neuerichter.de
SUMMARY:Fachgruppentreffen Arbeitsrecht am 27. und 28. April in Erfurt
DESCRIPTION:Tagungsort ist das Augustinerkloster in Erfurt. \nEingeladen sind explizit auch an unserer Arbeit Interessierte\, die (noch) kein NRV-Mitglied sind. \nZur inhaltlichen Planung gibt es folgende Ideen: \n1) Austausch über die Rechtsprechung zu § 615 BGB bzw. § 11 KSchG in Bezug auf die Böswilligkeit nach Kündigung eines Arbeitsverhältnisses. Die neuere Rechtsprechung des BAG wirft hier einige Fragen auf\, die die LAG-Rechtsprechung sehr unterschiedlich beantwortet. \n2) Verbandsklagerecht im Zusammenhang mit Masseverfahren und der EntgeltfortzahlungsRiLi (Referentin Birgit Voßkühler\, Präs’in LAG Hamburg) \n3) Streikrecht: Aktuelle Diskussion um Beschränkungen des Streikrechts für Betriebe der Daseinsvorsorge  (Referent Jens Schubert\, verdi) \n4) Ermöglichung der „Schriftsatzkündigung“ per beA – hier gibt es einen BR-Entwurf\, den wir diskutieren sollten und als FG eine Stellungnahme abgeben könnten (Impuls: Eberhard Natter) \n5) Wahl eines Fachgruppen-Sprechers oder einer Sprecherin \nDie Referent*innen werden per Videokonferenz am Samstagnachmittag zugeschaltet. \nGerne können auch weitere Themenvorschläge gemacht werden \nRück- und Anmeldung bitte möglichst bis 12. April an Tanja Keller\, Sprecherin der Fachgruppe Arbeitsrecht\, tanja.keller[at]neuerichter.de
URL:https://www.neuerichter.de/termin/fachgruppentreffen-arbeitsrecht-am-27-und-28-april-in-erfurt/
LOCATION:Augustinerkloster in Erfurt\, Augustinerstraße 10\, Erfurt\, 99084\, Germany
END:VEVENT
END:VCALENDAR