BEGIN:VCALENDAR
VERSION:2.0
PRODID:-//Neue Richter*innenvereinigung e.V. - ECPv6.15.20//NONSGML v1.0//EN
CALSCALE:GREGORIAN
METHOD:PUBLISH
X-WR-CALNAME:Neue Richter*innenvereinigung e.V.
X-ORIGINAL-URL:https://www.neuerichter.de
X-WR-CALDESC:Veranstaltungen für Neue Richter*innenvereinigung e.V.
REFRESH-INTERVAL;VALUE=DURATION:PT1H
X-Robots-Tag:noindex
X-PUBLISHED-TTL:PT1H
BEGIN:VTIMEZONE
TZID:Europe/Berlin
BEGIN:DAYLIGHT
TZOFFSETFROM:+0100
TZOFFSETTO:+0200
TZNAME:CEST
DTSTART:20250330T010000
END:DAYLIGHT
BEGIN:STANDARD
TZOFFSETFROM:+0200
TZOFFSETTO:+0100
TZNAME:CET
DTSTART:20251026T010000
END:STANDARD
BEGIN:DAYLIGHT
TZOFFSETFROM:+0100
TZOFFSETTO:+0200
TZNAME:CEST
DTSTART:20260329T010000
END:DAYLIGHT
BEGIN:STANDARD
TZOFFSETFROM:+0200
TZOFFSETTO:+0100
TZNAME:CET
DTSTART:20261025T010000
END:STANDARD
BEGIN:DAYLIGHT
TZOFFSETFROM:+0100
TZOFFSETTO:+0200
TZNAME:CEST
DTSTART:20270328T010000
END:DAYLIGHT
BEGIN:STANDARD
TZOFFSETFROM:+0200
TZOFFSETTO:+0100
TZNAME:CET
DTSTART:20271031T010000
END:STANDARD
END:VTIMEZONE
BEGIN:VEVENT
DTSTART;TZID=Europe/Berlin:20260424T160000
DTEND;TZID=Europe/Berlin:20260425T120000
DTSTAMP:20260424T030032
CREATED:20260304T114437Z
LAST-MODIFIED:20260304T122420Z
UID:10000058-1777046400-1777118400@www.neuerichter.de
SUMMARY:NRV-Thementreffen: Wie machen wir unsere Justiz wetterfest?
DESCRIPTION:Es steht zu befürchten\, dass die kommende Legislaturperiode die letzte sein könnte\, in der demokratische Parteien eine verfassungsändernde Mehrheit im Landtag haben. Umso dringender muss diese Phase genutzt werden\, um die Justiz so resilient wie möglich zu machen\, also ihre Unabhängigkeit auch für den Fall zu gewährleisten\, dass in Zukunft eine autoritär-populistische Partei an der Regierung beteiligt ist oder gar die Justizminister*in stellt. Der Impuls dazu muss aus der Justiz selbst kommen. Deshalb laden wir Sie und Euch herzlich zu unserer kommenden Tagung \n\n  \nvon Freitag\, 24. April (16 Uhr) bis Samstag\, 25. April 2026 (12 Uhr) in Karlsruhe\n  \nGemeinsam wollen wir analysieren\, welche Einfallstore die Justizorganisation im Land bietet\, um die Justiz zu kapern oder lahmzulegen. Was bedeuten die Ergebnisse des Justizprojekts (https://verfassungsblog.de/justiz-projekt/) für uns in Baden-Württemberg? Und was können wir in den kommenden Jahren dafür tun\, uns zu schützen? Welche Gesetze oder gar Artikel der Landesverfassung müssen reformiert werden? Und sind wir in unserem Selbstbild und unserer Berufskultur vorbereitet auf die zu befürchtenden Angriffe und Delegitimierungsstrategien? In der Diskussion wird uns Jonathan Schramm unterstützen\, ein Kollege vom LG Dresden und Mitautor beim Justiz-Projekt. \nDie Tagung findet im Arthotel ANA Eden\, Bahnhofstr. 15-19\, 76137 Karlsruhe statt. Sie ist frei für alle Kolleg*innen\, unabhängig von der Mitgliedschaft in unserem Berufsverband. Ein Tagungsbeitrag wird nicht erhoben. Die Übernachtungskosten betragen 73 Euro bzw. 49 Euro für Proberichter*innen\, jeweils zzgl 3\,50 Euro City Tax. \nAnmeldungen bitte bis 27. März 2026 per E-Mail an landesverband-bw@neuerichter.de. 
URL:https://www.neuerichter.de/termin/nrv-thementreffen-wie-machen-wir-unsere-justiz-wetterfest/
LOCATION:Arthotel ANA Eden\, Bahnhofstraße 15 - 19\, Karlsruhe\, Germany
ATTACH;FMTTYPE=image/png:https://www.neuerichter.de/wp-content/uploads/2026/03/NRV-Baden-Wuerttemberg-Thementreffen-Wie-machen-wir-unsere-Justiz-wetterfest.png
END:VEVENT
END:VCALENDAR