BEGIN:VCALENDAR
VERSION:2.0
PRODID:-//Neue Richter*innenvereinigung e.V. - ECPv6.15.20//NONSGML v1.0//EN
CALSCALE:GREGORIAN
METHOD:PUBLISH
X-WR-CALNAME:Neue Richter*innenvereinigung e.V.
X-ORIGINAL-URL:https://www.neuerichter.de
X-WR-CALDESC:Veranstaltungen für Neue Richter*innenvereinigung e.V.
REFRESH-INTERVAL;VALUE=DURATION:PT1H
X-Robots-Tag:noindex
X-PUBLISHED-TTL:PT1H
BEGIN:VTIMEZONE
TZID:Europe/Berlin
BEGIN:DAYLIGHT
TZOFFSETFROM:+0100
TZOFFSETTO:+0200
TZNAME:CEST
DTSTART:20250330T010000
END:DAYLIGHT
BEGIN:STANDARD
TZOFFSETFROM:+0200
TZOFFSETTO:+0100
TZNAME:CET
DTSTART:20251026T010000
END:STANDARD
BEGIN:DAYLIGHT
TZOFFSETFROM:+0100
TZOFFSETTO:+0200
TZNAME:CEST
DTSTART:20260329T010000
END:DAYLIGHT
BEGIN:STANDARD
TZOFFSETFROM:+0200
TZOFFSETTO:+0100
TZNAME:CET
DTSTART:20261025T010000
END:STANDARD
BEGIN:DAYLIGHT
TZOFFSETFROM:+0100
TZOFFSETTO:+0200
TZNAME:CEST
DTSTART:20270328T010000
END:DAYLIGHT
BEGIN:STANDARD
TZOFFSETFROM:+0200
TZOFFSETTO:+0100
TZNAME:CET
DTSTART:20271031T010000
END:STANDARD
END:VTIMEZONE
BEGIN:VEVENT
DTSTART;TZID=Europe/Berlin:20260422T123000
DTEND;TZID=Europe/Berlin:20260422T133000
DTSTAMP:20260422T013927
CREATED:20260325T134854Z
LAST-MODIFIED:20260327T104544Z
UID:10000061-1776861000-1776864600@www.neuerichter.de
SUMMARY:NRV Impulse: Rechtsstaat ohne Prinzipien - die Grenzen internationaler Rechtshilfe
DESCRIPTION:Impulsvortrag und Diskussion\n22. April 2026\, 12:30 – 13:30 Uhr Online\n\nRechtsstaat ohne Prinzipien – die Grenzen internationaler Rechtshilfe \nMit der überhasteten Überstellung von Maja T. im sog.“Budapest-Komplex“ wurde der verfassungsrechtliche Grundrechtsschutz ausgehebelt. Das BVerfG erklärte den Beschluss in der Folge für rechtswidrig und kritisierte den Ablauf mit seltener Deutlichkeit. Die Strafverfolgungsbehörden hatten jedoch ohne Rücksicht auf ein laufendes Eilverfahren Tatsachen geschaffen\, eine Rücküberstellung war nicht möglich. Der Beschluss des BVerfG blieb letztlich folgenlos\, ein Novum in der dt.Rechtsgeschichte. Maja T. sah sich in der Folge einem Prozess in Ungarn ausgesetzt\, der mit den Grundprinzipien einer deutschen Strafprozessordnung nur schwer in Einklang zu bringen war. Rechtsanwalt Sven Richwin betreute Maja T. als einer von mehreren Anwälten vor Ort und wird darstelllen\, was die von der Europäischen Kommission als „rechtsstaatliche Defizite“ bezeichneten Umstände in der Praxis bedeuten. \nSven Richwin ist Strafverteidiger in Berlin\, engagiert im Republikanischen Anwältinnen – und Anwälteverein (RAV) und seit zwanzig Jahren insbesondere mit Gewaltstraftaten befasst\, oftmals Staatsschutzdelikten. In jüngster Zeit war er u.a. mit dem sog. „Rondenbarg-Verfahren“ in Hamburg rund um die G20-Ausschreitungen sowie dem „Budapest-Komplex“ befasst. \nModeration: Jutta Hanewinkel\, Richterin am Amtsgericht Marburg \n  \nDie Online-Veranstaltung für Kolleg*innen und Interessierte findet am Mittwoch\, 22.04. als Lunchbreak in der Zeit von 12:30 – 13:30 Uhr statt. Es würde uns freuen\, wenn viele die Gelegenheit nutzen\, die Mittagspause einmal auf diese Weise zu verbringen. \n\nDie Veranstaltung findet im Rahmen unserer Veranstaltungsreihe „Impulse“ online statt und ist kostenlos. Sie ist offen für alle NRV-Mitglieder und Interessierte aus der Justiz. Wir bitten um Anmeldung beim NRV Bundesbüro (Mailadresse bb@neuerichter.de)\, möglichst unter Verwendung Ihrer dienstlichen Email-Adresse. Nach Anmeldung erhalten Sie von uns den Link zur Veranstaltung.
URL:https://www.neuerichter.de/termin/nrv-impulse-rechtsstaat-ohne-prinzipien-die-grenzen-internationaler-rechtshilfe/
LOCATION:https://www.neuerichter.de/termin/nrv-impulse-rechtsstaat-ohne-prinzipien-die-grenzen-internationaler-rechtshilfe/
END:VEVENT
END:VCALENDAR