BEGIN:VCALENDAR
VERSION:2.0
PRODID:-//Neue Richter*innenvereinigung e.V. - ECPv6.15.20//NONSGML v1.0//EN
CALSCALE:GREGORIAN
METHOD:PUBLISH
X-ORIGINAL-URL:https://www.neuerichter.de
X-WR-CALDESC:Veranstaltungen für Neue Richter*innenvereinigung e.V.
REFRESH-INTERVAL;VALUE=DURATION:PT1H
X-Robots-Tag:noindex
X-PUBLISHED-TTL:PT1H
BEGIN:VTIMEZONE
TZID:Europe/Berlin
BEGIN:DAYLIGHT
TZOFFSETFROM:+0100
TZOFFSETTO:+0200
TZNAME:CEST
DTSTART:20250330T010000
END:DAYLIGHT
BEGIN:STANDARD
TZOFFSETFROM:+0200
TZOFFSETTO:+0100
TZNAME:CET
DTSTART:20251026T010000
END:STANDARD
BEGIN:DAYLIGHT
TZOFFSETFROM:+0100
TZOFFSETTO:+0200
TZNAME:CEST
DTSTART:20260329T010000
END:DAYLIGHT
BEGIN:STANDARD
TZOFFSETFROM:+0200
TZOFFSETTO:+0100
TZNAME:CET
DTSTART:20261025T010000
END:STANDARD
BEGIN:DAYLIGHT
TZOFFSETFROM:+0100
TZOFFSETTO:+0200
TZNAME:CEST
DTSTART:20270328T010000
END:DAYLIGHT
BEGIN:STANDARD
TZOFFSETFROM:+0200
TZOFFSETTO:+0100
TZNAME:CET
DTSTART:20271031T010000
END:STANDARD
END:VTIMEZONE
BEGIN:VEVENT
DTSTART;TZID=Europe/Berlin:20260325T160000
DTEND;TZID=Europe/Berlin:20260325T160000
DTSTAMP:20260421T171031
CREATED:20260306T104128Z
LAST-MODIFIED:20260306T104128Z
UID:10000059-1774454400-1774454400@www.neuerichter.de
SUMMARY:RESILIENZ?! – Ein Faktencheck zur Verwundbarkeit der hessischen Justiz
DESCRIPTION:Eine Veranstaltung der NRV – Landesgruppe Hessen\nam 25. März 2026\, 16:00 Uhr\nim Oberlandesgericht Frankfurt\, Zeil 42\, Sitzungssaaltrakt\, Säle 5 und 6\n\n \n  \nIn dem Buch „Das Justiz-Projekt – Verwundbarkeit und Resilienz der dritten Gewalt -“ haben Autor*innen des Verfassungsblog zahlreiche Herausforderungen für die Justiz identifiziert. \nIst die hessische Justiz gewappnet? \nWie steht es zum Beispiel mit \n\nder institutionellen Unabhängigkeit der hessischen Justiz?\nder Richter*innen-Auswahl durch den hessischen Richterwahlausschuss?\nder Einflussnahme der Exekutive gegenüber Staatsanwaltschaften und Gerichten?\nder hessischen Abordnungs- und Beurteilungspraxis mit der neuen hessischen Beurteilungsverordnung?\nder Ernennung\, dem Status und der Abberufung von Proberichter*innen?\n\nWir freuen uns\, dass wir \nSophie Sendrowski  \naus dem Autor*innen-Team des Justiz-Projekts vom Verfassungsblog \nfür einen Impuls und eine Diskussion zu den hessischen Verhältnissen gewinnen konnten. \nIm Anschluss findet unsere alljährliche Mitgliederversammlung und ein nettes Beisammensein im Maingold statt. \n 
URL:https://www.neuerichter.de/termin/resilienz-ein-faktencheck-zur-verwundbarkeit-der-hessischen-justiz/
LOCATION:Oberlandesgericht Frankfurt\, Zeil 42\, Frankfurt am Main\, 60313\, Germany
END:VEVENT
END:VCALENDAR