BEGIN:VCALENDAR
VERSION:2.0
PRODID:-//Neue Richter*innenvereinigung e.V. - ECPv6.15.20//NONSGML v1.0//EN
CALSCALE:GREGORIAN
METHOD:PUBLISH
X-WR-CALNAME:Neue Richter*innenvereinigung e.V.
X-ORIGINAL-URL:https://www.neuerichter.de
X-WR-CALDESC:Veranstaltungen für Neue Richter*innenvereinigung e.V.
REFRESH-INTERVAL;VALUE=DURATION:PT1H
X-Robots-Tag:noindex
X-PUBLISHED-TTL:PT1H
BEGIN:VTIMEZONE
TZID:Europe/Berlin
BEGIN:DAYLIGHT
TZOFFSETFROM:+0100
TZOFFSETTO:+0200
TZNAME:CEST
DTSTART:20240331T010000
END:DAYLIGHT
BEGIN:STANDARD
TZOFFSETFROM:+0200
TZOFFSETTO:+0100
TZNAME:CET
DTSTART:20241027T010000
END:STANDARD
BEGIN:DAYLIGHT
TZOFFSETFROM:+0100
TZOFFSETTO:+0200
TZNAME:CEST
DTSTART:20250330T010000
END:DAYLIGHT
BEGIN:STANDARD
TZOFFSETFROM:+0200
TZOFFSETTO:+0100
TZNAME:CET
DTSTART:20251026T010000
END:STANDARD
BEGIN:DAYLIGHT
TZOFFSETFROM:+0100
TZOFFSETTO:+0200
TZNAME:CEST
DTSTART:20260329T010000
END:DAYLIGHT
BEGIN:STANDARD
TZOFFSETFROM:+0200
TZOFFSETTO:+0100
TZNAME:CET
DTSTART:20261025T010000
END:STANDARD
END:VTIMEZONE
BEGIN:VEVENT
DTSTART;TZID=Europe/Berlin:20250925T160000
DTEND;TZID=Europe/Berlin:20250925T160000
DTSTAMP:20260420T110211
CREATED:20250708T071232Z
LAST-MODIFIED:20250708T071420Z
UID:10000044-1758816000-1758816000@www.neuerichter.de
SUMMARY:Law statt Order - Der Kampf um den Rechtsstaat
DESCRIPTION:Der Kampf um den Rechtsstaat\nDie Bedeutungsverschiebung des Rechtsstaatsbegriffs und die Aneignung durch die extreme Rechte\nmit Prof. Dr. Dr. Maximilian Pichl\nProfessor für Soziales Recht als Gegenstand der Sozialen Arbeit Hochschule RheinMain\n  \nVon der ‚vollen Härte des Rechtsstaats‘ bis zum ‚Ordnungsstaat (als) Selbstverteidigungsmodus des Rechtsstaates‘ – wir wollen uns mit Prof. Dr. Maximilian Pichl dem Begriff des Rechtsstaates und seinen Deutungsmöglichkeiten nähern. Ausgehend von seinem liberalen Gehalt als Schutz gegen Eingriffe des Staates zeigt sein Blick auf die letzten Jahrzehnte\, dass es sich um ein eher unbestimmtes Verfassungsprinzip mit offenem Inhalt handeln könnte\, dessen vielfältige Instrumentalisierung juristisch wie politisch diskutierbar ist. Vor dem Hintergrund der aktuellen Entwicklungen wollen wir auch der Frage nachgehen\, wie legitim diese Aneignungen durch tendenziell rechtsfeindliche Akteur:innen sind\, und damit vielleicht auch unsere eigenen Standorte als Menschen in der Justiz bestimmen. \nweitere Informationen: \nhttps://verfassungsblog.de/author/maximilian-pichl/ \nhttps://www.suhrkamp.de/buch/maximilian-pichl-law-statt-order-t-9783518128374 \nhttps://bsky.app/profile/maxpichl.bsky.social
URL:https://www.neuerichter.de/termin/law-statt-order-der-kampf-um-den-rechtsstaat/
LOCATION:Amts- und Landgericht Köln\, Luxemburger Str. 101\, Köln\, 50939
ATTACH;FMTTYPE=image/png:https://www.neuerichter.de/wp-content/uploads/2025/07/2025_09_Kantinengespraech-LV-NRW-Pichl.png
END:VEVENT
END:VCALENDAR