BEGIN:VCALENDAR
VERSION:2.0
PRODID:-//Neue Richter*innenvereinigung e.V. - ECPv6.15.20//NONSGML v1.0//EN
CALSCALE:GREGORIAN
METHOD:PUBLISH
X-WR-CALNAME:Neue Richter*innenvereinigung e.V.
X-ORIGINAL-URL:https://www.neuerichter.de
X-WR-CALDESC:Veranstaltungen für Neue Richter*innenvereinigung e.V.
REFRESH-INTERVAL;VALUE=DURATION:PT1H
X-Robots-Tag:noindex
X-PUBLISHED-TTL:PT1H
BEGIN:VTIMEZONE
TZID:Europe/Berlin
BEGIN:DAYLIGHT
TZOFFSETFROM:+0100
TZOFFSETTO:+0200
TZNAME:CEST
DTSTART:20230326T010000
END:DAYLIGHT
BEGIN:STANDARD
TZOFFSETFROM:+0200
TZOFFSETTO:+0100
TZNAME:CET
DTSTART:20231029T010000
END:STANDARD
BEGIN:DAYLIGHT
TZOFFSETFROM:+0100
TZOFFSETTO:+0200
TZNAME:CEST
DTSTART:20240331T010000
END:DAYLIGHT
BEGIN:STANDARD
TZOFFSETFROM:+0200
TZOFFSETTO:+0100
TZNAME:CET
DTSTART:20241027T010000
END:STANDARD
BEGIN:DAYLIGHT
TZOFFSETFROM:+0100
TZOFFSETTO:+0200
TZNAME:CEST
DTSTART:20250330T010000
END:DAYLIGHT
BEGIN:STANDARD
TZOFFSETFROM:+0200
TZOFFSETTO:+0100
TZNAME:CET
DTSTART:20251026T010000
END:STANDARD
END:VTIMEZONE
BEGIN:VEVENT
DTSTART;TZID=Europe/Berlin:20240711T173000
DTEND;TZID=Europe/Berlin:20240711T173000
DTSTAMP:20260421T121709
CREATED:20240703T162458Z
LAST-MODIFIED:20240703T164310Z
UID:10000017-1720719000-1720719000@www.neuerichter.de
SUMMARY:Einladung: Justitia – Anspruch und Wirklichkeit
DESCRIPTION:Von Selbstverwaltung\, Bestenauslese und Besoldung: Die Positionen der NRV\nReferent: Guido Kirchhoff\, Vorsitzender Richter am OLG a.D.\, Mitglied des Bundesvorstands der NRV \nDonnerstag\, 11. Juli 2024\, 17.30 Uhr\nRestaurant Undine\, Bismarckstraße 129\, Saarbrücken \nP.S.: Das erste Getränk geht auf Kosten der NRV!
URL:https://www.neuerichter.de/termin/einladung-justitia-anspruch-und-wirklichkeit/
LOCATION:Restaurant Undine\, Saarbrücken\, Bismarckstraße 129\, Saarbrücken\, Germany
END:VEVENT
END:VCALENDAR