BEGIN:VCALENDAR
VERSION:2.0
PRODID:-//Neue Richter*innenvereinigung e.V. - ECPv6.15.20//NONSGML v1.0//EN
CALSCALE:GREGORIAN
METHOD:PUBLISH
X-ORIGINAL-URL:https://www.neuerichter.de
X-WR-CALDESC:Veranstaltungen für Neue Richter*innenvereinigung e.V.
REFRESH-INTERVAL;VALUE=DURATION:PT1H
X-Robots-Tag:noindex
X-PUBLISHED-TTL:PT1H
BEGIN:VTIMEZONE
TZID:Europe/Berlin
BEGIN:DAYLIGHT
TZOFFSETFROM:+0100
TZOFFSETTO:+0200
TZNAME:CEST
DTSTART:20230326T010000
END:DAYLIGHT
BEGIN:STANDARD
TZOFFSETFROM:+0200
TZOFFSETTO:+0100
TZNAME:CET
DTSTART:20231029T010000
END:STANDARD
BEGIN:DAYLIGHT
TZOFFSETFROM:+0100
TZOFFSETTO:+0200
TZNAME:CEST
DTSTART:20240331T010000
END:DAYLIGHT
BEGIN:STANDARD
TZOFFSETFROM:+0200
TZOFFSETTO:+0100
TZNAME:CET
DTSTART:20241027T010000
END:STANDARD
BEGIN:DAYLIGHT
TZOFFSETFROM:+0100
TZOFFSETTO:+0200
TZNAME:CEST
DTSTART:20250330T010000
END:DAYLIGHT
BEGIN:STANDARD
TZOFFSETFROM:+0200
TZOFFSETTO:+0100
TZNAME:CET
DTSTART:20251026T010000
END:STANDARD
END:VTIMEZONE
BEGIN:VEVENT
DTSTART;TZID=Europe/Berlin:20240521T180000
DTEND;TZID=Europe/Berlin:20240521T180000
DTSTAMP:20260421T124126
CREATED:20240516T140323Z
LAST-MODIFIED:20240516T140323Z
UID:10000015-1716314400-1716314400@www.neuerichter.de
SUMMARY:Stabilität des demokratischen Verfassungsstaats - Vortragsveranstaltung
DESCRIPTION:Ort:  Giebelsaal des „Haus am Dom“ in Frankfurt am Main\nEs ist eine jahrzehntelang gepflegte Tradition der Arbeitsgemeinschaft Sozialdemokratischer Juristinnen und Juristen (ASJ)\, der Verabschiedung unseres Grundgesetzes am 23. Mai 1949 in Form einer Vortragsveranstaltung zu gedenken. \nDass dies aber nicht nur ein Anliegen der ASJ sein kann\, liegt auf der Hand. Wir freuen uns daher\, dass mit der Neuen Richter*innen Vereinigung (NRV) und dem SPD- Unterbezirk Frankfurt zwei starke Kooperationspartner unsere diesjährige Veranstaltung mittragen. Insbesondere der NRV als Vereinigung kritischer\, linksliberal oder links orientierter Richterinnen und Richter ist seit Jahren der Schutz von Demokratie und Rechtsstaat und besonders die Gewährleistung richterlicher Unabhängigkeit ein großes Anliegen. \nFanden diese Veranstaltungen bislang immer in Darmstadt statt\, haben wir uns dieses Jahr dazu entschlossen\, die Veranstaltung zum 75-jährigen Jubiläum unserer Verfassung an einem ebenfalls für die deutsche Verfassungsgeschichte bedeutsamen Ort\, nämlich in Frankfurt durchzuführen. Gerade im vergangenen Jahr bestand zum 175-jährigen Anlass\, sich einer Vorläuferin des Grundgesetzes\, der Verfassung des deutschen Reiches von 1849\, zu erinnern. 1848 trat in der Frankfurter Paulskirche die erste deutsche Nationalversammlung zusammen\, die 1849 mit der Paulskirchenverfassung die Grundlage für einen freiheitlichen deutschen Nationalstaat schaffen sollte. Dazu ist es – jedenfalls nicht damals und in der von den Verfassungsvätern von 1848/49 („Mütter“ kannte diese Verfassung noch nicht) beabsichtigten Form –nicht gekommen. \nDie spätere Reichsgründung von 1871 entsprach sicher nicht den Vorstellungen der Protagonisten von 1848/49. Und dennoch besteht zwischen beiden Verfassungen\, der Frankfurter Paulskirchenverfassung und dem Grundgesetz\, eine gewisse inhaltliche Kontinuität. Dabei darf allerdings auch das zwischen diesen beiden Verfassungen stehende Verfassungswerk\, die Weimarer Reichsverfassung\, nicht vergessen werden. Bereits die Weimarer Reichsverfassung knüpfte an die Paulskirchenverfassung\, insbesondere deren Grundrechtskatalog\, an. Das gleiche gilt auch für das Grundgesetz\, das in seiner vorliegenden Form weder ohne die Paulskirche noch ohne Weimar denkbar wäre. Daran gilt es sich immer wieder zu erinnern. \nGerade wenn man die Weimarer Reichsverfassung und ihre Geschichte in den Blick nimmt\, drängt sich angesichts aktueller politischer Geschehnisse eine Frage auf\, die uns bei unserem diesjährigen Verfassungstag umtreibt: Wie können wir unsere verfassungsmäßige Ordnung angesichts erstarkender demokratie- und rechtsstaatsfeindlicher Kräfte von rechts besser schützen? Die Frage der „Resilienz“ von Demokratie und Rechtsstaat ist in aller Munde. Dies gilt allerdings nicht nur in Bezug auf das Grundgesetz. Der Blick in andere europäische Länder wie z. B. Ungarn\, Polen und die Slowakei zeigt\, dass Demokratie und Rechtsstaat nicht einfach gegeben sind\, sondern immer wieder aufs Neue verteidigt oder wiederhergestellt werden müssen. \nWie krisenfest ist unser Grundgesetz? Was bedarf es an institutioneller Absicherung\, um unsere Verfassung zu schützen? Das sind nicht nur Fragen\, die aktuell die politischen Parteien und die interessierte Öffentlichkeit bewegen\, sie sollen auch der Leitfaden unserer diesjährigen Veranstaltung sein. \nWir freuen uns sehr\, mit der ehemaligen Richterin des Bundesverfassungsgerichts Frau Prof. Dr. Gabriele Britz eine besonders sachkundige Referentin gewonnen zu haben\, die zum Thema „Stabilität des demokratischen Verfassungsstaats“ sprechen wird. \nIm Anschluss an den Vortrag besteht selbstverständlich Gelegenheit zur Diskussion. \nWir würden uns freuen\, viele von Ihnen zu der Veranstaltung begrüßen zu dürfen! \nJürgen Gasper\nVorsitzender der ASJ Hessen-Süd \nDr. Stephan Bitter\nSprecher NRV-Landesverband Hessen \nSPD Hessen
URL:https://www.neuerichter.de/termin/stabilitaet-des-demokratischen-verfassungsstaats-vortragsveranstaltung/
LOCATION:Haus am Dom – Giebelsaal\, Domplatz 3\, Frankfurt am Main\, 60311
END:VEVENT
END:VCALENDAR